BEGIN:VCALENDAR
VERSION:2.0
PRODID:-//hacksw/handcal//NONSGML v1.0//EN
BEGIN:VEVENT
SUMMARY:TAE la Haye Fouassiere
UID:84603b3c-11f4-48da-90e8-f0fc85f63d86
DTSTART:20260524T060000Z
DTEND:20260524T151500Z
LOCATION:Localisation   
CATEGORIES:Sportif
STATUS:
URL;VALUE=URI:https://www.archersdesaintherblain.fr/evenements/2026/05/24/tae-la-haye-fouassiere-2442760
END:VEVENT
END:VCALENDAR
